BEGIN:VCALENDAR
VERSION:2.0
PRODID:-//Unifor Local 3018 - ECPv6.15.20//NONSGML v1.0//EN
CALSCALE:GREGORIAN
METHOD:PUBLISH
X-WR-CALNAME:Unifor Local 3018
X-ORIGINAL-URL:https://www.unifor3018.ca
X-WR-CALDESC:Events for Unifor Local 3018
REFRESH-INTERVAL;VALUE=DURATION:PT1H
X-Robots-Tag:noindex
X-PUBLISHED-TTL:PT1H
BEGIN:VTIMEZONE
TZID:UTC
BEGIN:STANDARD
TZOFFSETFROM:+0000
TZOFFSETTO:+0000
TZNAME:UTC
DTSTART:20170101T000000
END:STANDARD
END:VTIMEZONE
BEGIN:VEVENT
DTSTART;TZID=UTC:20200211T140000
DTEND;TZID=UTC:20200211T160000
DTSTAMP:20260424T014035
CREATED:20191128T051359Z
LAST-MODIFIED:20191128T051359Z
UID:1116-1581429600-1581436800@www.unifor3018.ca
SUMMARY:Union Management Meeting
DESCRIPTION:Executive meeting with management.
URL:https://www.unifor3018.ca/event/union-management-meeting-23/
LOCATION:Gibraltar Mine – ERT BUILDING
CATEGORIES:Executive
END:VEVENT
BEGIN:VEVENT
DTSTART;TZID=UTC:20200205T160000
DTEND;TZID=UTC:20200205T190000
DTSTAMP:20260424T014035
CREATED:20191128T051217Z
LAST-MODIFIED:20191128T051217Z
UID:1114-1580918400-1580929200@www.unifor3018.ca
SUMMARY:Executive Meeting
DESCRIPTION:For Executive Members Only.
URL:https://www.unifor3018.ca/event/executive-meeting-20/
LOCATION:Local 3018 Union Hall\, 33 Yorston St.\, Williams Lake\, BC\, V2G 1G6\, Canada
CATEGORIES:Executive
END:VEVENT
BEGIN:VEVENT
DTSTART;TZID=UTC:20200114T140000
DTEND;TZID=UTC:20200114T160000
DTSTAMP:20260424T014035
CREATED:20191128T051122Z
LAST-MODIFIED:20191128T051122Z
UID:1112-1579010400-1579017600@www.unifor3018.ca
SUMMARY:Union Management
DESCRIPTION:Executive meeting with management.
URL:https://www.unifor3018.ca/event/union-management/
LOCATION:Gibraltar Mine – ERT BUILDING
CATEGORIES:Executive
END:VEVENT
BEGIN:VEVENT
DTSTART;TZID=UTC:20200108T160000
DTEND;TZID=UTC:20200108T190000
DTSTAMP:20260424T014035
CREATED:20191128T050908Z
LAST-MODIFIED:20191128T050908Z
UID:1110-1578499200-1578510000@www.unifor3018.ca
SUMMARY:Executive Meeting
DESCRIPTION:For Executive Members Only.
URL:https://www.unifor3018.ca/event/executive-meeting-19/
LOCATION:Local 3018 Union Hall\, 33 Yorston St.\, Williams Lake\, BC\, V2G 1G6\, Canada
CATEGORIES:Executive
END:VEVENT
BEGIN:VEVENT
DTSTART;TZID=UTC:20191202T160000
DTEND;TZID=UTC:20191202T190000
DTSTAMP:20260424T014035
CREATED:20190108T083115Z
LAST-MODIFIED:20190108T083115Z
UID:764-1575302400-1575313200@www.unifor3018.ca
SUMMARY:Executive Members
DESCRIPTION:Meeting for Executive members.
URL:https://www.unifor3018.ca/event/executive-members/
LOCATION:Local 3018 Union Hall\, 33 Yorston St.\, Williams Lake\, BC\, V2G 1G6\, Canada
CATEGORIES:Executive
END:VEVENT
BEGIN:VEVENT
DTSTART;TZID=UTC:20191104T160000
DTEND;TZID=UTC:20191104T190000
DTSTAMP:20260424T014035
CREATED:20190108T082832Z
LAST-MODIFIED:20190108T082832Z
UID:760-1572883200-1572894000@www.unifor3018.ca
SUMMARY:Executive Meeting
DESCRIPTION:Meeting for Executive members.
URL:https://www.unifor3018.ca/event/executive-meeting-18/
LOCATION:Local 3018 Union Hall\, 33 Yorston St.\, Williams Lake\, BC\, V2G 1G6\, Canada
CATEGORIES:Executive
END:VEVENT
BEGIN:VEVENT
DTSTART;TZID=UTC:20191001T160000
DTEND;TZID=UTC:20191001T190000
DTSTAMP:20260424T014035
CREATED:20190108T082515Z
LAST-MODIFIED:20190108T082515Z
UID:756-1569945600-1569956400@www.unifor3018.ca
SUMMARY:Executive Meeting
DESCRIPTION:Meeting for Executive members.
URL:https://www.unifor3018.ca/event/executive-meeting-17/
LOCATION:Local 3018 Union Hall\, 33 Yorston St.\, Williams Lake\, BC\, V2G 1G6\, Canada
CATEGORIES:Executive
END:VEVENT
BEGIN:VEVENT
DTSTART;TZID=UTC:20190903T160000
DTEND;TZID=UTC:20190903T190000
DTSTAMP:20260424T014035
CREATED:20190108T082108Z
LAST-MODIFIED:20190108T082108Z
UID:752-1567526400-1567537200@www.unifor3018.ca
SUMMARY:Executive Meeting
DESCRIPTION:Meeting for Executive members.
URL:https://www.unifor3018.ca/event/executive-meeting-16/
LOCATION:Local 3018 Union Hall\, 33 Yorston St.\, Williams Lake\, BC\, V2G 1G6\, Canada
CATEGORIES:Executive
END:VEVENT
BEGIN:VEVENT
DTSTART;TZID=UTC:20190806T160000
DTEND;TZID=UTC:20190806T190000
DTSTAMP:20260424T014035
CREATED:20190108T081757Z
LAST-MODIFIED:20190108T081757Z
UID:748-1565107200-1565118000@www.unifor3018.ca
SUMMARY:Executive Meeting
DESCRIPTION:Meeting for Executive members.
URL:https://www.unifor3018.ca/event/executive-meeting-15/
LOCATION:Local 3018 Union Hall\, 33 Yorston St.\, Williams Lake\, BC\, V2G 1G6\, Canada
CATEGORIES:Executive
END:VEVENT
BEGIN:VEVENT
DTSTART;TZID=UTC:20190705T160000
DTEND;TZID=UTC:20190705T190000
DTSTAMP:20260424T014035
CREATED:20190108T081528Z
LAST-MODIFIED:20190108T083431Z
UID:744-1562342400-1562353200@www.unifor3018.ca
SUMMARY:Executive Meeting
DESCRIPTION:Meeting for Executive meeting.
URL:https://www.unifor3018.ca/event/executive-meeting-14/
LOCATION:Local 3018 Union Hall\, 33 Yorston St.\, Williams Lake\, BC\, V2G 1G6\, Canada
CATEGORIES:Executive
END:VEVENT
BEGIN:VEVENT
DTSTART;TZID=UTC:20190602T160000
DTEND;TZID=UTC:20190602T190000
DTSTAMP:20260424T014035
CREATED:20190108T081259Z
LAST-MODIFIED:20190108T081259Z
UID:740-1559491200-1559502000@www.unifor3018.ca
SUMMARY:Executive Meeting
DESCRIPTION:Meeting for Executive members.
URL:https://www.unifor3018.ca/event/executive-meeting-13/
LOCATION:Local 3018 Union Hall\, 33 Yorston St.\, Williams Lake\, BC\, V2G 1G6\, Canada
CATEGORIES:Executive
END:VEVENT
BEGIN:VEVENT
DTSTART;TZID=UTC:20190501T160000
DTEND;TZID=UTC:20190501T190000
DTSTAMP:20260424T014035
CREATED:20190108T080942Z
LAST-MODIFIED:20190108T080942Z
UID:736-1556726400-1556737200@www.unifor3018.ca
SUMMARY:Executive Meeting
DESCRIPTION:Meeting for Executive members.
URL:https://www.unifor3018.ca/event/executive-meeting-12/
LOCATION:Local 3018 Union Hall\, 33 Yorston St.\, Williams Lake\, BC\, V2G 1G6\, Canada
CATEGORIES:Executive
END:VEVENT
BEGIN:VEVENT
DTSTART;TZID=UTC:20190403T160000
DTEND;TZID=UTC:20190403T190000
DTSTAMP:20260424T014035
CREATED:20190108T080345Z
LAST-MODIFIED:20190108T080621Z
UID:732-1554307200-1554318000@www.unifor3018.ca
SUMMARY:Executive Meeting
DESCRIPTION:Meeting for Executive members.
URL:https://www.unifor3018.ca/event/executive-meeting-11/
LOCATION:Local 3018 Union Hall\, 33 Yorston St.\, Williams Lake\, BC\, V2G 1G6\, Canada
CATEGORIES:Executive
END:VEVENT
BEGIN:VEVENT
DTSTART;TZID=UTC:20190306T160000
DTEND;TZID=UTC:20190306T190000
DTSTAMP:20260424T014035
CREATED:20190108T080051Z
LAST-MODIFIED:20190108T083325Z
UID:728-1551888000-1551898800@www.unifor3018.ca
SUMMARY:Executive Meeting
DESCRIPTION:Meeting for Executive member.
URL:https://www.unifor3018.ca/event/executive-meeting-10/
LOCATION:Local 3018 Union Hall\, 33 Yorston St.\, Williams Lake\, BC\, V2G 1G6\, Canada
CATEGORIES:Executive
END:VEVENT
BEGIN:VEVENT
DTSTART;TZID=UTC:20190206T160000
DTEND;TZID=UTC:20190206T190000
DTSTAMP:20260424T014035
CREATED:20190108T074818Z
LAST-MODIFIED:20190108T074818Z
UID:724-1549468800-1549479600@www.unifor3018.ca
SUMMARY:Union Executive Meeting
DESCRIPTION:Meeting for Union Executive members.
URL:https://www.unifor3018.ca/event/union-executive-meeting-2/
LOCATION:Local 3018 Union Hall\, 33 Yorston St.\, Williams Lake\, BC\, V2G 1G6\, Canada
CATEGORIES:Executive
END:VEVENT
BEGIN:VEVENT
DTSTART;TZID=UTC:20190113T160000
DTEND;TZID=UTC:20190113T190000
DTSTAMP:20260424T014035
CREATED:20190108T074153Z
LAST-MODIFIED:20190108T074916Z
UID:722-1547395200-1547406000@www.unifor3018.ca
SUMMARY:Union Executive Meeting
DESCRIPTION:Meeting for Executive members.
URL:https://www.unifor3018.ca/event/union-executive-meeting/
LOCATION:Local 3018 Union Hall\, 33 Yorston St.\, Williams Lake\, BC\, V2G 1G6\, Canada
CATEGORIES:Executive
END:VEVENT
BEGIN:VEVENT
DTSTART;TZID=UTC:20181211T140000
DTEND;TZID=UTC:20181211T160000
DTSTAMP:20260424T014035
CREATED:20180303T014858Z
LAST-MODIFIED:20180303T014858Z
UID:453-1544536800-1544544000@www.unifor3018.ca
SUMMARY:Union Management Meeting
DESCRIPTION:An on site meeting with management to go over items that have come up over the past month and discuss training. \nThis meeting is for Management and Union Executives only.
URL:https://www.unifor3018.ca/event/union-management-meeting-10/
LOCATION:Gibraltar Mine – ERT BUILDING
CATEGORIES:Executive
END:VEVENT
BEGIN:VEVENT
DTSTART;TZID=UTC:20181203T160000
DTEND;TZID=UTC:20181203T200000
DTSTAMP:20260424T014035
CREATED:20180303T023251Z
LAST-MODIFIED:20180303T023251Z
UID:476-1543852800-1543867200@www.unifor3018.ca
SUMMARY:Executive Meeting
DESCRIPTION:This is an Executive only meeting to go over reports and any items that have come up.
URL:https://www.unifor3018.ca/event/executive-meeting-9/
LOCATION:Local 3018 Union Hall\, 33 Yorston St.\, Williams Lake\, BC\, V2G 1G6\, Canada
CATEGORIES:Executive
END:VEVENT
BEGIN:VEVENT
DTSTART;VALUE=DATE:20181117
DTEND;VALUE=DATE:20181122
DTSTAMP:20260424T014035
CREATED:20180905T022018Z
LAST-MODIFIED:20180905T022018Z
UID:619-1542412800-1542844799@www.unifor3018.ca
SUMMARY:BCRC
DESCRIPTION:
URL:https://www.unifor3018.ca/event/bcrc/
LOCATION:Vancouver
CATEGORIES:Executive
END:VEVENT
BEGIN:VEVENT
DTSTART;TZID=UTC:20181113T140000
DTEND;TZID=UTC:20181113T160000
DTSTAMP:20260424T014035
CREATED:20180303T014811Z
LAST-MODIFIED:20180303T014811Z
UID:451-1542117600-1542124800@www.unifor3018.ca
SUMMARY:Union Management Meeting
DESCRIPTION:An on site meeting with management to go over items that have come up over the past month and discuss training. \nThis meeting is for Management and Union Executives only.
URL:https://www.unifor3018.ca/event/union-management-meeting-9/
LOCATION:Gibraltar Mine – ERT BUILDING
CATEGORIES:Executive
END:VEVENT
BEGIN:VEVENT
DTSTART;TZID=UTC:20181105T160000
DTEND;TZID=UTC:20181105T200000
DTSTAMP:20260424T014035
CREATED:20180303T023156Z
LAST-MODIFIED:20180303T023156Z
UID:474-1541433600-1541448000@www.unifor3018.ca
SUMMARY:Executive Meeting
DESCRIPTION:This is an Executive only meeting to go over reports and any items that have come up.
URL:https://www.unifor3018.ca/event/executive-meeting-8/
LOCATION:Local 3018 Union Hall\, 33 Yorston St.\, Williams Lake\, BC\, V2G 1G6\, Canada
CATEGORIES:Executive
END:VEVENT
BEGIN:VEVENT
DTSTART;TZID=UTC:20181009T140000
DTEND;TZID=UTC:20181009T160000
DTSTAMP:20260424T014035
CREATED:20180303T014703Z
LAST-MODIFIED:20180303T014703Z
UID:449-1539093600-1539100800@www.unifor3018.ca
SUMMARY:Union Management Meeting
DESCRIPTION:An on site meeting with management to go over items that have come up over the past month and discuss training. \nThis meeting is for Management and Union Executives only.
URL:https://www.unifor3018.ca/event/union-management-meeting-8/
LOCATION:Gibraltar Mine – ERT BUILDING
CATEGORIES:Executive
END:VEVENT
BEGIN:VEVENT
DTSTART;TZID=UTC:20181002T160000
DTEND;TZID=UTC:20181002T200000
DTSTAMP:20260424T014035
CREATED:20180303T022910Z
LAST-MODIFIED:20180303T023115Z
UID:472-1538496000-1538510400@www.unifor3018.ca
SUMMARY:Executive Meeting
DESCRIPTION:This is an Executive only meeting to go over reports and any items that have come up.
URL:https://www.unifor3018.ca/event/executive-meeting-7/
LOCATION:Local 3018 Union Hall\, 33 Yorston St.\, Williams Lake\, BC\, V2G 1G6\, Canada
CATEGORIES:Executive
END:VEVENT
BEGIN:VEVENT
DTSTART;VALUE=DATE:20180918
DTEND;VALUE=DATE:20180922
DTSTAMP:20260424T014035
CREATED:20180905T032645Z
LAST-MODIFIED:20180905T032645Z
UID:622-1537228800-1537574399@www.unifor3018.ca
SUMMARY:LGBTQ2S+ Educational Forum
DESCRIPTION:Educational forum for executive members to gain knowledge and information on LGBTQ2S+ Community.
URL:https://www.unifor3018.ca/event/lgbtq2s-educational-forum/
LOCATION:Vancouver
CATEGORIES:Executive
END:VEVENT
BEGIN:VEVENT
DTSTART;TZID=UTC:20180911T140000
DTEND;TZID=UTC:20180911T160000
DTSTAMP:20260424T014035
CREATED:20180303T014616Z
LAST-MODIFIED:20180303T014616Z
UID:447-1536674400-1536681600@www.unifor3018.ca
SUMMARY:Union Management Meeting
DESCRIPTION:An on site meeting with management to go over items that have come up over the past month and discuss training. \nThis meeting is for Management and Union Executives only
URL:https://www.unifor3018.ca/event/union-management-meeting-7/
LOCATION:Gibraltar Mine – ERT BUILDING
CATEGORIES:Executive
END:VEVENT
BEGIN:VEVENT
DTSTART;TZID=UTC:20180904T160000
DTEND;TZID=UTC:20180904T200000
DTSTAMP:20260424T014035
CREATED:20180303T022813Z
LAST-MODIFIED:20180303T022813Z
UID:470-1536076800-1536091200@www.unifor3018.ca
SUMMARY:Executive Meeting
DESCRIPTION:This is an Executive only meeting to go over reports and any items that have come up.
URL:https://www.unifor3018.ca/event/executive-meeting-6/
LOCATION:Local 3018 Union Hall\, 33 Yorston St.\, Williams Lake\, BC\, V2G 1G6\, Canada
CATEGORIES:Executive
END:VEVENT
BEGIN:VEVENT
DTSTART;TZID=UTC:20180814T140000
DTEND;TZID=UTC:20180814T160000
DTSTAMP:20260424T014035
CREATED:20180303T014530Z
LAST-MODIFIED:20180303T014530Z
UID:445-1534255200-1534262400@www.unifor3018.ca
SUMMARY:Union Management Meeting
DESCRIPTION:An on site meeting with management to go over items that have come up over the past month and discuss training. \nThis meeting is for Management and Union Executives only
URL:https://www.unifor3018.ca/event/union-management-meeting-6/
LOCATION:Gibraltar Mine – ERT BUILDING
CATEGORIES:Executive
END:VEVENT
BEGIN:VEVENT
DTSTART;TZID=UTC:20180807T160000
DTEND;TZID=UTC:20180807T200000
DTSTAMP:20260424T014035
CREATED:20180303T022656Z
LAST-MODIFIED:20180303T022656Z
UID:468-1533657600-1533672000@www.unifor3018.ca
SUMMARY:Executive Meeting
DESCRIPTION:This is an Executive only meeting to go over reports and any items that have come up.
URL:https://www.unifor3018.ca/event/executive-meeting-5/
LOCATION:Local 3018 Union Hall\, 33 Yorston St.\, Williams Lake\, BC\, V2G 1G6\, Canada
CATEGORIES:Executive
END:VEVENT
BEGIN:VEVENT
DTSTART;TZID=UTC:20180710T140000
DTEND;TZID=UTC:20180710T160000
DTSTAMP:20260424T014035
CREATED:20180303T014228Z
LAST-MODIFIED:20180303T014228Z
UID:443-1531231200-1531238400@www.unifor3018.ca
SUMMARY:Union Management Meeting
DESCRIPTION:An on site meeting with management to go over items that have come up over the past month and discuss training. \nThis meeting is for Management and Union Executives only
URL:https://www.unifor3018.ca/event/union-management-meeting-5/
LOCATION:Gibraltar Mine – ERT BUILDING
CATEGORIES:Executive
END:VEVENT
BEGIN:VEVENT
DTSTART;TZID=UTC:20180706T160000
DTEND;TZID=UTC:20180706T200000
DTSTAMP:20260424T014035
CREATED:20180303T022603Z
LAST-MODIFIED:20180303T022603Z
UID:466-1530892800-1530907200@www.unifor3018.ca
SUMMARY:Executive Meeting
DESCRIPTION:This is an Executive only meeting to go over reports and any items that have come up.
URL:https://www.unifor3018.ca/event/executive-meeting-4/
LOCATION:Local 3018 Union Hall\, 33 Yorston St.\, Williams Lake\, BC\, V2G 1G6\, Canada
CATEGORIES:Executive
END:VEVENT
END:VCALENDAR