BEGIN:VCALENDAR
VERSION:2.0
PRODID:-//Unifor Local 3018 - ECPv6.15.20//NONSGML v1.0//EN
CALSCALE:GREGORIAN
METHOD:PUBLISH
X-ORIGINAL-URL:https://www.unifor3018.ca
X-WR-CALDESC:Events for Unifor Local 3018
REFRESH-INTERVAL;VALUE=DURATION:PT1H
X-Robots-Tag:noindex
X-PUBLISHED-TTL:PT1H
BEGIN:VTIMEZONE
TZID:UTC
BEGIN:STANDARD
TZOFFSETFROM:+0000
TZOFFSETTO:+0000
TZNAME:UTC
DTSTART:20170101T000000
END:STANDARD
END:VTIMEZONE
BEGIN:VEVENT
DTSTART;TZID=UTC:20180207T100000
DTEND;TZID=UTC:20180207T160000
DTSTAMP:20260419T133844
CREATED:20180202T110430Z
LAST-MODIFIED:20180202T110507Z
UID:380-1517997600-1518019200@www.unifor3018.ca
SUMMARY:Curtis and Cody 10-4
DESCRIPTION:Open for all questions
URL:https://www.unifor3018.ca/event/curtis-and-cody-10-4-3/
LOCATION:Local 3018 Union Hall\, 33 Yorston St.\, Williams Lake\, BC\, V2G 1G6\, Canada
CATEGORIES:Hall Hours
END:VEVENT
BEGIN:VEVENT
DTSTART;TZID=UTC:20180205T100000
DTEND;TZID=UTC:20180205T140000
DTSTAMP:20260419T133844
CREATED:20180126T072834Z
LAST-MODIFIED:20180126T072953Z
UID:364-1517824800-1517839200@www.unifor3018.ca
SUMMARY:Cody and Maria Hall Hours 10-2
DESCRIPTION:Open to all members for questions or concerns
URL:https://www.unifor3018.ca/event/cody-and-maria/
LOCATION:Local 3018 Union Hall\, 33 Yorston St.\, Williams Lake\, BC\, V2G 1G6\, Canada
CATEGORIES:Hall Hours
END:VEVENT
BEGIN:VEVENT
DTSTART;TZID=UTC:20180112T100000
DTEND;TZID=UTC:20180112T140000
DTSTAMP:20260419T133844
CREATED:20180111T052318Z
LAST-MODIFIED:20180111T052318Z
UID:351-1515751200-1515765600@www.unifor3018.ca
SUMMARY:Riley Gibson Hall Hours 10-2
DESCRIPTION:The hall will be open for any member needs
URL:https://www.unifor3018.ca/event/riley-gibson-hall-hours-10-2/
LOCATION:Local 3018 Union Hall\, 33 Yorston St.\, Williams Lake\, BC\, V2G 1G6\, Canada
CATEGORIES:Hall Hours
END:VEVENT
BEGIN:VEVENT
DTSTART;TZID=UTC:20180111T100000
DTEND;TZID=UTC:20180111T130000
DTSTAMP:20260419T133844
CREATED:20180108T044537Z
LAST-MODIFIED:20180108T044537Z
UID:332-1515664800-1515675600@www.unifor3018.ca
SUMMARY:Peter Rekunyk Hall Hours 10-1
DESCRIPTION:Peter will be there to help and answer any questions he can or direct you to the person that can . Peter is in charge of the training  programs that are upcoming this would be a good time to discuss this.
URL:https://www.unifor3018.ca/event/peter-rekunyk-hall-hours-10-1/
LOCATION:BC
CATEGORIES:Hall Hours
END:VEVENT
BEGIN:VEVENT
DTSTART;TZID=UTC:20180109T110000
DTEND;TZID=UTC:20180109T130000
DTSTAMP:20260419T133844
CREATED:20180108T045150Z
LAST-MODIFIED:20180108T045159Z
UID:336-1515495600-1515502800@www.unifor3018.ca
SUMMARY:Cody Wells Hall Hours 11-1
DESCRIPTION:Cody will be there to answer questions and concerns.
URL:https://www.unifor3018.ca/event/cody-wells-hall-hours-11-1/
LOCATION:BC
CATEGORIES:Hall Hours
END:VEVENT
END:VCALENDAR